BEGIN:VCALENDAR
VERSION:2.0
PRODID:-//Contratero//ES
CALSCALE:GREGORIAN
METHOD:PUBLISH
BEGIN:VEVENT
UID:1/2021 CNT OAD CNSPSV@contratero.es
DTSTAMP:20260424T140553Z
DTSTART:20211029T235959
DTEND:20211030T005959
SUMMARY:Cierre: El objeto del contrato será la contratación de la 
DESCRIPTION:El objeto del contrato será la contratación de la licencia del programa informático online para el control sanitario de las piscinas ubicadas en el complejo deportivo Jesús Domínguez “El Grillo” y la ...\\n\\nOrganismo: Junta Rectora del Organismo Autónomo de Deportes del Ayuntamiento de Arona\\n\\nVer en Contratero: https://contratero.es/contracts/1/2021 CNT OAD CNSPSV
URL:https://contratero.es/contracts/1/2021 CNT OAD CNSPSV
STATUS:CONFIRMED
BEGIN:VALARM
TRIGGER:-P1D
ACTION:DISPLAY
DESCRIPTION:Recordatorio: El objeto del contrato será la
END:VALARM
END:VEVENT
END:VCALENDAR